BEGIN:VCALENDAR
VERSION:2.0
PRODID:-//Prince George&#039;s County Section of the National Council of Negro Women, Inc. - ECPv6.15.17.1//NONSGML v1.0//EN
CALSCALE:GREGORIAN
METHOD:PUBLISH
X-WR-CALNAME:Prince George&#039;s County Section of the National Council of Negro Women, Inc.
X-ORIGINAL-URL:https://www.ncnwpgc.org
X-WR-CALDESC:Events for Prince George&#039;s County Section of the National Council of Negro Women, Inc.
REFRESH-INTERVAL;VALUE=DURATION:PT1H
X-Robots-Tag:noindex
X-PUBLISHED-TTL:PT1H
BEGIN:VTIMEZONE
TZID:UTC
BEGIN:STANDARD
TZOFFSETFROM:+0000
TZOFFSETTO:+0000
TZNAME:UTC
DTSTART:20250101T000000
END:STANDARD
END:VTIMEZONE
BEGIN:VEVENT
DTSTART;TZID=UTC:20260221T123000
DTEND;TZID=UTC:20260221T143000
DTSTAMP:20260421T175826
CREATED:20250923T001353Z
LAST-MODIFIED:20250923T002704Z
UID:1788-1771677000-1771684200@www.ncnwpgc.org
SUMMARY:Monthly Section Meeting
DESCRIPTION: 
URL:https://www.ncnwpgc.org/event/1788/
LOCATION:Harmony Hall\, 10711 Livingston Road\, Fort Washington\, MD\, 20744\, United States
END:VEVENT
END:VCALENDAR