BEGIN:VCALENDAR
VERSION:2.0
PRODID:-//Prince George&#039;s County Section of the National Council of Negro Women, Inc. - ECPv6.15.17.1//NONSGML v1.0//EN
CALSCALE:GREGORIAN
METHOD:PUBLISH
X-WR-CALNAME:Prince George&#039;s County Section of the National Council of Negro Women, Inc.
X-ORIGINAL-URL:https://www.ncnwpgc.org
X-WR-CALDESC:Events for Prince George&#039;s County Section of the National Council of Negro Women, Inc.
REFRESH-INTERVAL;VALUE=DURATION:PT1H
X-Robots-Tag:noindex
X-PUBLISHED-TTL:PT1H
BEGIN:VTIMEZONE
TZID:UTC
BEGIN:STANDARD
TZOFFSETFROM:+0000
TZOFFSETTO:+0000
TZNAME:UTC
DTSTART:20250101T000000
END:STANDARD
END:VTIMEZONE
BEGIN:VEVENT
DTSTART;VALUE=DATE:20260201
DTEND;VALUE=DATE:20260202
DTSTAMP:20260421T180551
CREATED:20260104T225308Z
LAST-MODIFIED:20260104T225308Z
UID:1873-1769904000-1769990399@www.ncnwpgc.org
SUMMARY:Scholarship
DESCRIPTION:Scholarship PGCS\, NCNW Inc. 2026 Scholarship_Flyer_Final.pdf
URL:https://www.ncnwpgc.org/event/scholarship/
END:VEVENT
END:VCALENDAR